BEGIN:VCALENDAR
VERSION:2.0
PRODID:-//www.linvilla.com/534//NONSGML kigkonsult.se iCalcreator 2.20.2//
X-MS-OLK-FORCEINSPECTOROPEN:TRUE
X-WR-TIMEZONE:America/New_York
BEGIN:VTIMEZONE
TZID:America/New_York
BEGIN:STANDARD
DTSTART:20181104T020000
TZOFFSETFROM:-0400
TZOFFSETTO:-0500
TZNAME:EST
END:STANDARD
BEGIN:DAYLIGHT
DTSTART:20180311T020000
TZOFFSETFROM:-0500
TZOFFSETTO:-0400
TZNAME:EDT
END:DAYLIGHT
END:VTIMEZONE
BEGIN:VEVENT
UID:6198@www.linvilla.com/534
DTSTAMP:20260422T034124Z
DESCRIPTION:Enjoy your day by the pool with a special and yummy treat!\nMak
 e your very own ice cream sundae with our extensive Toppings Bar for just 
 $3.50
DTSTART;TZID=America/New_York:20180722T130000
DTEND;TZID=America/New_York:20180722T150000
LOCATION:Knowlton Swim Club
SUMMARY:Sunday Sundae! Spectacular @ KSC
END:VEVENT
END:VCALENDAR
