BEGIN:VCALENDAR
VERSION:2.0
PRODID:-//www.linvilla.com/534//NONSGML kigkonsult.se iCalcreator 2.20.2//
X-MS-OLK-FORCEINSPECTOROPEN:TRUE
X-WR-TIMEZONE:America/New_York
BEGIN:VTIMEZONE
TZID:America/New_York
BEGIN:STANDARD
DTSTART:20171105T020000
TZOFFSETFROM:-0400
TZOFFSETTO:-0500
TZNAME:EST
END:STANDARD
BEGIN:DAYLIGHT
DTSTART:20170312T020000
TZOFFSETFROM:-0500
TZOFFSETTO:-0400
TZNAME:EDT
END:DAYLIGHT
END:VTIMEZONE
BEGIN:VEVENT
UID:3424@www.linvilla.com/534
DTSTAMP:20260423T090216Z
DESCRIPTION:Grandparents guest fee just $10!
DTSTART;VALUE=DATE:20170717
DTEND;VALUE=DATE:20170718
LOCATION:Hidden Hollow & Knowlton Swim Club
SUMMARY:Grandparents Day
END:VEVENT
END:VCALENDAR
