BEGIN:VCALENDAR
VERSION:2.0
PRODID:-//www.linvilla.com/534//NONSGML kigkonsult.se iCalcreator 2.20.2//
X-MS-OLK-FORCEINSPECTOROPEN:TRUE
X-WR-TIMEZONE:America/New_York
BEGIN:VTIMEZONE
TZID:America/New_York
BEGIN:STANDARD
DTSTART:20181104T020000
TZOFFSETFROM:-0400
TZOFFSETTO:-0500
TZNAME:EST
END:STANDARD
BEGIN:DAYLIGHT
DTSTART:20180311T020000
TZOFFSETFROM:-0500
TZOFFSETTO:-0400
RDATE:20190310T020000
TZNAME:EDT
END:DAYLIGHT
END:VTIMEZONE
BEGIN:VEVENT
UID:6619@www.linvilla.com/534
DTSTAMP:20260423T091119Z
DESCRIPTION:
DTSTART;TZID=America/New_York:20180730T110000
DTEND;TZID=America/New_York:20180730T200000
LOCATION:
RRULE:FREQ=WEEKLY;UNTIL=20180903T150000Z;BYDAY=MO,TU,WE,TH,FR
SUMMARY:Hidden Hollow Open
END:VEVENT
BEGIN:VEVENT
UID:6619@www.linvilla.com/534
DTSTAMP:20260423T091119Z
DESCRIPTION:
DTSTART;TZID=America/New_York:20180831T110000
DTEND;TZID=America/New_York:20180831T200000
LOCATION:
RECURRENCE-ID;TZID=America/New_York:20180831T110000
SUMMARY:Hidden Hollow CLOSED due to rain
END:VEVENT
BEGIN:VEVENT
UID:6619@www.linvilla.com/534
DTSTAMP:20260423T091119Z
DESCRIPTION:
DTSTART;TZID=America/New_York:20180813T110000
DTEND;TZID=America/New_York:20180813T200000
LOCATION:
RECURRENCE-ID;TZID=America/New_York:20180813T110000
SUMMARY:Hidden Hollow CLOSED
END:VEVENT
END:VCALENDAR
