BEGIN:VCALENDAR
VERSION:2.0
PRODID:-//www.linvilla.com/534//NONSGML kigkonsult.se iCalcreator 2.20.2//
X-MS-OLK-FORCEINSPECTOROPEN:TRUE
X-WR-TIMEZONE:America/New_York
BEGIN:VTIMEZONE
TZID:America/New_York
BEGIN:STANDARD
DTSTART:20201101T020000
TZOFFSETFROM:-0400
TZOFFSETTO:-0500
TZNAME:EST
END:STANDARD
BEGIN:DAYLIGHT
DTSTART:20200308T020000
TZOFFSETFROM:-0500
TZOFFSETTO:-0400
TZNAME:EDT
END:DAYLIGHT
END:VTIMEZONE
BEGIN:VEVENT
UID:153188@www.linvilla.com/534
DTSTAMP:20260424T021835Z
DESCRIPTION:
DTSTART;TZID=America/New_York:20200620T110000
DTEND;TZID=America/New_York:20200620T203000
LOCATION:
RRULE:FREQ=WEEKLY;UNTIL=20200730T150000Z;BYDAY=SU,MO,TU,WE,TH,FR,SA
SUMMARY:Knowlton Open
END:VEVENT
BEGIN:VEVENT
UID:153188@www.linvilla.com/534
DTSTAMP:20260424T021835Z
DESCRIPTION:
DTSTART;TZID=America/New_York:20200722T110000
DTEND;TZID=America/New_York:20200722T203000
LOCATION:
RECURRENCE-ID;TZID=America/New_York:20200722T110000
SUMMARY:Knowlton Closed
END:VEVENT
BEGIN:VEVENT
UID:153188@www.linvilla.com/534
DTSTAMP:20260424T021835Z
DESCRIPTION:
DTSTART;TZID=America/New_York:20200710T110000
DTEND;TZID=America/New_York:20200710T203000
LOCATION:
RECURRENCE-ID;TZID=America/New_York:20200710T110000
SUMMARY:Knowlton Closed
END:VEVENT
BEGIN:VEVENT
UID:153188@www.linvilla.com/534
DTSTAMP:20260424T021835Z
DESCRIPTION:
DTSTART;TZID=America/New_York:20200704T110000
DTEND;TZID=America/New_York:20200704T183000
LOCATION:
RECURRENCE-ID;TZID=America/New_York:20200704T110000
SUMMARY:Knowlton Open
END:VEVENT
END:VCALENDAR
