BEGIN:VCALENDAR
VERSION:2.0
PRODID:-//www.linvilla.com/139//NONSGML kigkonsult.se iCalcreator 2.20.2//
X-MS-OLK-FORCEINSPECTOROPEN:TRUE
X-WR-TIMEZONE:America/New_York
BEGIN:VTIMEZONE
TZID:America/New_York
BEGIN:STANDARD
DTSTART:20161106T020000
TZOFFSETFROM:-0400
TZOFFSETTO:-0500
RDATE:20171105T020000
TZNAME:EST
END:STANDARD
BEGIN:DAYLIGHT
DTSTART:20170312T020000
TZOFFSETFROM:-0500
TZOFFSETTO:-0400
TZNAME:EDT
END:DAYLIGHT
END:VTIMEZONE
BEGIN:VEVENT
UID:3616@www.linvilla.com/139
DTSTAMP:20260419T123145Z
DESCRIPTION:A Kitchen Herb Garden is a great way to get fresh flavor in you
 r meals all winter long. The price includes 3 herb plants\, a beautiful te
 rracotta planter\, soil\, and our expert Garden Center staff! What a fun a
 nd flavorful way to spend a Saturday morning!\nCall 610-876-7116 to regist
 er.  Fee $35
DTSTART;TZID=America/New_York:20170409T100000
DTEND;TZID=America/New_York:20170409T110000
LOCATION:Garden Center
SUMMARY:Kitchen Herb Garden
END:VEVENT
END:VCALENDAR
