BEGIN:VCALENDAR
VERSION:2.0
PRODID:-//www.linvilla.com/139//NONSGML kigkonsult.se iCalcreator 2.20.2//
X-MS-OLK-FORCEINSPECTOROPEN:TRUE
X-WR-TIMEZONE:America/New_York
BEGIN:VTIMEZONE
TZID:America/New_York
BEGIN:STANDARD
DTSTART:20171105T020000
TZOFFSETFROM:-0400
TZOFFSETTO:-0500
TZNAME:EST
END:STANDARD
BEGIN:DAYLIGHT
DTSTART:20170312T020000
TZOFFSETFROM:-0500
TZOFFSETTO:-0400
TZNAME:EDT
END:DAYLIGHT
END:VTIMEZONE
BEGIN:VEVENT
UID:2676@www.linvilla.com/139
DTSTAMP:20260419T123221Z
DESCRIPTION:Join us for all of our festival fun activities as well as picki
 ng your own juicy raspberries!
DTSTART;TZID=America/New_York:20170624T080000
DTEND;TZID=America/New_York:20170624T190000
LOCATION:
SUMMARY:Raspberry Celebration
END:VEVENT
END:VCALENDAR
