BEGIN:VCALENDAR
VERSION:2.0
PRODID:-//www.linvilla.com/139//NONSGML kigkonsult.se iCalcreator 2.20.2//
X-MS-OLK-FORCEINSPECTOROPEN:TRUE
X-WR-TIMEZONE:America/New_York
BEGIN:VTIMEZONE
TZID:America/New_York
BEGIN:STANDARD
DTSTART:20241103T020000
TZOFFSETFROM:-0400
TZOFFSETTO:-0500
RDATE:20251102T020000
TZNAME:EST
END:STANDARD
BEGIN:DAYLIGHT
DTSTART:20250309T020000
TZOFFSETFROM:-0500
TZOFFSETTO:-0400
TZNAME:EDT
END:DAYLIGHT
END:VTIMEZONE
BEGIN:VEVENT
UID:206716@www.linvilla.com/139
DTSTAMP:20260423T090918Z
DESCRIPTION:
DTSTART;TZID=America/New_York:20250308T080000
DTEND;TZID=America/New_York:20250308T180000
EXDATE;TZID=America/New_York:20250420T080000
EXDATE;TZID=America/New_York:20250531T080000
LOCATION:
RRULE:FREQ=WEEKLY;UNTIL=20250905T120000Z;BYDAY=SU,MO,TU,WE,TH,FR,SA
SUMMARY:Playland Playground
END:VEVENT
BEGIN:VEVENT
UID:206716@www.linvilla.com/139
DTSTAMP:20260423T090918Z
DESCRIPTION:
DTSTART;TZID=America/New_York:20250704T080000
DTEND;TZID=America/New_York:20250704T160000
LOCATION:
RECURRENCE-ID;TZID=America/New_York:20250704T080000
SUMMARY:Playland Playground
END:VEVENT
BEGIN:VEVENT
UID:206716@www.linvilla.com/139
DTSTAMP:20260423T090918Z
DESCRIPTION:
DTSTART;TZID=America/New_York:20250526T080000
DTEND;TZID=America/New_York:20250526T160000
LOCATION:
RECURRENCE-ID;TZID=America/New_York:20250526T080000
SUMMARY:Playland Playground
END:VEVENT
END:VCALENDAR
