BEGIN:VCALENDAR
VERSION:2.0
PRODID:-//www.linvilla.com/139//NONSGML kigkonsult.se iCalcreator 2.20.2//
X-MS-OLK-FORCEINSPECTOROPEN:TRUE
X-WR-TIMEZONE:America/New_York
BEGIN:VTIMEZONE
TZID:America/New_York
BEGIN:STANDARD
DTSTART:20221106T020000
TZOFFSETFROM:-0400
TZOFFSETTO:-0500
RDATE:20231105T020000
TZNAME:EST
END:STANDARD
BEGIN:DAYLIGHT
DTSTART:20230312T020000
TZOFFSETFROM:-0500
TZOFFSETTO:-0400
RDATE:20240310T020000
TZNAME:EDT
END:DAYLIGHT
END:VTIMEZONE
BEGIN:VEVENT
UID:184951@www.linvilla.com/139
DTSTAMP:20260420T163958Z
DESCRIPTION:
DTSTART;TZID=America/New_York:20230520T080000
DTEND;TZID=America/New_York:20230520T180000
LOCATION:
RRULE:FREQ=WEEKLY;UNTIL=20230922T120000Z;BYDAY=SU,MO,TU,WE,TH,FR,SA
SUMMARY:Playland Playground
END:VEVENT
BEGIN:VEVENT
UID:184951@www.linvilla.com/139
DTSTAMP:20260420T163958Z
DESCRIPTION:
DTSTART;TZID=America/New_York:20230904T080000
DTEND;TZID=America/New_York:20230904T160000
LOCATION:
RECURRENCE-ID;TZID=America/New_York:20230904T080000
SUMMARY:Playland Playground
END:VEVENT
BEGIN:VEVENT
UID:184951@www.linvilla.com/139
DTSTAMP:20260420T163958Z
DESCRIPTION:
DTSTART;TZID=America/New_York:20230704T080000
DTEND;TZID=America/New_York:20230704T160000
LOCATION:
RECURRENCE-ID;TZID=America/New_York:20230704T080000
SUMMARY:Playland Playground
END:VEVENT
BEGIN:VEVENT
UID:184951@www.linvilla.com/139
DTSTAMP:20260420T163958Z
DESCRIPTION:
DTSTART;TZID=America/New_York:20230529T080000
DTEND;TZID=America/New_York:20230529T160000
LOCATION:
RECURRENCE-ID;TZID=America/New_York:20230529T080000
SUMMARY:Playland Playground
END:VEVENT
END:VCALENDAR
