BEGIN:VCALENDAR
VERSION:2.0
PRODID:-//www.linvilla.com/139//NONSGML kigkonsult.se iCalcreator 2.20.2//
X-MS-OLK-FORCEINSPECTOROPEN:TRUE
X-WR-TIMEZONE:America/New_York
BEGIN:VTIMEZONE
TZID:America/New_York
BEGIN:STANDARD
DTSTART:20201101T020000
TZOFFSETFROM:-0400
TZOFFSETTO:-0500
RDATE:20211107T020000
TZNAME:EST
END:STANDARD
BEGIN:DAYLIGHT
DTSTART:20210314T020000
TZOFFSETFROM:-0500
TZOFFSETTO:-0400
RDATE:20220313T020000
TZNAME:EDT
END:DAYLIGHT
END:VTIMEZONE
BEGIN:VEVENT
UID:165653@www.linvilla.com/139
DTSTAMP:20260425T213327Z
DESCRIPTION:
DTSTART;TZID=America/New_York:20210410T120000
DTEND;TZID=America/New_York:20210410T160000
EXDATE;TZID=America/New_York:20210411T120000
EXDATE;TZID=America/New_York:20210529T120000
EXDATE;TZID=America/New_York:20210530T120000
EXDATE;TZID=America/New_York:20210626T120000
EXDATE;TZID=America/New_York:20210814T120000
LOCATION:
RRULE:FREQ=WEEKLY;UNTIL=20210905T160000Z;BYDAY=SU,SA
SUMMARY:Pony Rides - Weather Permitting
END:VEVENT
BEGIN:VEVENT
UID:165653@www.linvilla.com/139
DTSTAMP:20260425T213327Z
DESCRIPTION:
DTSTART;TZID=America/New_York:20210828T120000
DTEND;TZID=America/New_York:20210828T160000
LOCATION:
RECURRENCE-ID;TZID=America/New_York:20210828T120000
SUMMARY:Pony Rides – cancelled due to weather
END:VEVENT
BEGIN:VEVENT
UID:165653@www.linvilla.com/139
DTSTAMP:20260425T213327Z
DESCRIPTION:
DTSTART;TZID=America/New_York:20210822T120000
DTEND;TZID=America/New_York:20210822T160000
LOCATION:
RECURRENCE-ID;TZID=America/New_York:20210822T120000
SUMMARY:Pony Rides – cancelled due to weather
END:VEVENT
BEGIN:VEVENT
UID:165653@www.linvilla.com/139
DTSTAMP:20260425T213327Z
DESCRIPTION:
DTSTART;TZID=America/New_York:20210821T120000
DTEND;TZID=America/New_York:20210821T160000
LOCATION:
RECURRENCE-ID;TZID=America/New_York:20210821T120000
SUMMARY:Pony Rides – Cancelled
END:VEVENT
BEGIN:VEVENT
UID:165653@www.linvilla.com/139
DTSTAMP:20260425T213327Z
DESCRIPTION:
DTSTART;TZID=America/New_York:20210808T120000
DTEND;TZID=America/New_York:20210808T160000
LOCATION:
RECURRENCE-ID;TZID=America/New_York:20210808T120000
SUMMARY:Pony Rides
END:VEVENT
BEGIN:VEVENT
UID:165653@www.linvilla.com/139
DTSTAMP:20260425T213327Z
DESCRIPTION:
DTSTART;TZID=America/New_York:20210801T120000
DTEND;TZID=America/New_York:20210801T160000
LOCATION:
RECURRENCE-ID;TZID=America/New_York:20210801T120000
SUMMARY:Pony Rides – Closed due to Weather
END:VEVENT
BEGIN:VEVENT
UID:165653@www.linvilla.com/139
DTSTAMP:20260425T213327Z
DESCRIPTION:
DTSTART;TZID=America/New_York:20210718T120000
DTEND;TZID=America/New_York:20210718T160000
LOCATION:
RECURRENCE-ID;TZID=America/New_York:20210718T120000
SUMMARY:Pony Rides CANCELLED
END:VEVENT
BEGIN:VEVENT
UID:165653@www.linvilla.com/139
DTSTAMP:20260425T213327Z
DESCRIPTION:
DTSTART;TZID=America/New_York:20210717T120000
DTEND;TZID=America/New_York:20210717T160000
LOCATION:
RECURRENCE-ID;TZID=America/New_York:20210717T120000
SUMMARY:Pony Rides CANCELLED
END:VEVENT
BEGIN:VEVENT
UID:165653@www.linvilla.com/139
DTSTAMP:20260425T213327Z
DESCRIPTION:
DTSTART;TZID=America/New_York:20210703T120000
DTEND;TZID=America/New_York:20210703T160000
LOCATION:
RECURRENCE-ID;TZID=America/New_York:20210703T120000
SUMMARY:Pony Rides – Closed
END:VEVENT
BEGIN:VEVENT
UID:165653@www.linvilla.com/139
DTSTAMP:20260425T213327Z
DESCRIPTION:
DTSTART;TZID=America/New_York:20210509T120000
DTEND;TZID=America/New_York:20210509T160000
LOCATION:
RECURRENCE-ID;TZID=America/New_York:20210509T120000
SUMMARY:Pony Rides – Weather Permitting-cancelled
END:VEVENT
END:VCALENDAR
