BEGIN:VCALENDAR
VERSION:2.0
PRODID:-//www.linvilla.com/139//NONSGML kigkonsult.se iCalcreator 2.20.2//
X-MS-OLK-FORCEINSPECTOROPEN:TRUE
X-WR-TIMEZONE:America/New_York
BEGIN:VTIMEZONE
TZID:America/New_York
BEGIN:STANDARD
DTSTART:20201101T020000
TZOFFSETFROM:-0400
TZOFFSETTO:-0500
TZNAME:EST
END:STANDARD
BEGIN:DAYLIGHT
DTSTART:20210314T020000
TZOFFSETFROM:-0500
TZOFFSETTO:-0400
TZNAME:EDT
END:DAYLIGHT
END:VTIMEZONE
BEGIN:VEVENT
UID:165100@www.linvilla.com/139
DTSTAMP:20260421T135341Z
DESCRIPTION:Buy Tickets Online before your visit!
DTSTART;TZID=America/New_York:20210320T110000
DTEND;TZID=America/New_York:20210320T160000
LOCATION:
RRULE:FREQ=WEEKLY;UNTIL=20210403T150000Z;BYDAY=SU,SA
SUMMARY:Hayrides to Bunnyland
END:VEVENT
BEGIN:VEVENT
UID:165100@www.linvilla.com/139
DTSTAMP:20260421T135341Z
DESCRIPTION:Buy Tickets Online before your visit!
DTSTART;TZID=America/New_York:20210328T110000
DTEND;TZID=America/New_York:20210328T160000
LOCATION:
RECURRENCE-ID;TZID=America/New_York:20210328T110000
SUMMARY:Hayrides to Bunnyland - Canceled Due to Weather
END:VEVENT
BEGIN:VEVENT
UID:165100@www.linvilla.com/139
DTSTAMP:20260421T135341Z
DESCRIPTION:Buy Tickets Online before your visit!
DTSTART;TZID=America/New_York:20210321T103000
DTEND;TZID=America/New_York:20210321T160000
LOCATION:
RECURRENCE-ID;TZID=America/New_York:20210321T110000
SUMMARY:Hayrides to Bunnyland
END:VEVENT
BEGIN:VEVENT
UID:165100@www.linvilla.com/139
DTSTAMP:20260421T135341Z
DESCRIPTION:Buy Tickets Online before your visit!
DTSTART;TZID=America/New_York:20210320T103000
DTEND;TZID=America/New_York:20210320T160000
LOCATION:
RECURRENCE-ID;TZID=America/New_York:20210320T110000
SUMMARY:Hayrides to Bunnyland
END:VEVENT
END:VCALENDAR
